BEGIN:VCALENDAR
VERSION:2.0
PRODID:-//Toledo Preparatory Academy - ECPv5.16.4//NONSGML v1.0//EN
CALSCALE:GREGORIAN
METHOD:PUBLISH
X-WR-CALNAME:Toledo Preparatory Academy
X-ORIGINAL-URL:https://toledoprepacademy.org
X-WR-CALDESC:Events for Toledo Preparatory Academy
BEGIN:VTIMEZONE
TZID:America/New_York
BEGIN:DAYLIGHT
TZOFFSETFROM:-0500
TZOFFSETTO:-0400
TZNAME:EDT
DTSTART:20260308T070000
END:DAYLIGHT
BEGIN:STANDARD
TZOFFSETFROM:-0400
TZOFFSETTO:-0500
TZNAME:EST
DTSTART:20261101T060000
END:STANDARD
END:VTIMEZONE
BEGIN:VEVENT
DTSTART;TZID=America/New_York:20260615T180000
DTEND;TZID=America/New_York:20260615T180000
DTSTAMP:20260421T155412
CREATED:20250528T181122Z
LAST-MODIFIED:20250528T181122Z
UID:10926-1781546400-1781546400@toledoprepacademy.org
SUMMARY:Board Meeting
DESCRIPTION:
URL:https://toledoprepacademy.org/event/board-meeting-20/
LOCATION:Toledo Preparatory Academy\, 824 6th Street\, Toledo\, OH\, 43605\, United States
CATEGORIES:Calendar Only,School Board
GEO:41.6461292;-83.5163911
X-APPLE-STRUCTURED-LOCATION;VALUE=URI;X-ADDRESS=Toledo Preparatory Academy 824 6th Street Toledo OH 43605 United States;X-APPLE-RADIUS=500;X-TITLE=824 6th Street:geo:-83.5163911,41.6461292
END:VEVENT
END:VCALENDAR