BEGIN:VCALENDAR
VERSION:2.0
PRODID:-//Toledo Preparatory Academy - ECPv5.16.4//NONSGML v1.0//EN
CALSCALE:GREGORIAN
METHOD:PUBLISH
X-WR-CALNAME:Toledo Preparatory Academy
X-ORIGINAL-URL:https://toledoprepacademy.org
X-WR-CALDESC:Events for Toledo Preparatory Academy
BEGIN:VTIMEZONE
TZID:America/New_York
BEGIN:DAYLIGHT
TZOFFSETFROM:-0500
TZOFFSETTO:-0400
TZNAME:EDT
DTSTART:20260308T070000
END:DAYLIGHT
BEGIN:STANDARD
TZOFFSETFROM:-0400
TZOFFSETTO:-0500
TZNAME:EST
DTSTART:20261101T060000
END:STANDARD
END:VTIMEZONE
BEGIN:VEVENT
DTSTART;TZID=America/New_York:20260504T180000
DTEND;TZID=America/New_York:20260504T180000
DTSTAMP:20260421T142138
CREATED:20250528T181023Z
LAST-MODIFIED:20250528T181023Z
UID:10924-1777917600-1777917600@toledoprepacademy.org
SUMMARY:Board Meeting
DESCRIPTION:
URL:https://toledoprepacademy.org/event/board-meeting-19/
LOCATION:Western Toledo Preparatory Academy\, 6145 Hill Ave\, Toledo\, OH\, 43615\, United States
CATEGORIES:Calendar Only,School Board
GEO:41.638204;-83.687051
X-APPLE-STRUCTURED-LOCATION;VALUE=URI;X-ADDRESS=Western Toledo Preparatory Academy 6145 Hill Ave Toledo OH 43615 United States;X-APPLE-RADIUS=500;X-TITLE=6145 Hill Ave:geo:-83.687051,41.638204
END:VEVENT
END:VCALENDAR